BEGIN:VCALENDAR
VERSION:2.0
PRODID:-//Bäckerfachschule Olpe - ECPv6.15.20//NONSGML v1.0//EN
CALSCALE:GREGORIAN
METHOD:PUBLISH
X-ORIGINAL-URL:https://baeckerfachschule.de
X-WR-CALDESC:Veranstaltungen für Bäckerfachschule Olpe
REFRESH-INTERVAL;VALUE=DURATION:PT1H
X-Robots-Tag:noindex
X-PUBLISHED-TTL:PT1H
BEGIN:VTIMEZONE
TZID:Europe/Berlin
BEGIN:DAYLIGHT
TZOFFSETFROM:+0100
TZOFFSETTO:+0200
TZNAME:CEST
DTSTART:20270328T010000
END:DAYLIGHT
BEGIN:STANDARD
TZOFFSETFROM:+0200
TZOFFSETTO:+0100
TZNAME:CET
DTSTART:20271031T010000
END:STANDARD
BEGIN:DAYLIGHT
TZOFFSETFROM:+0100
TZOFFSETTO:+0200
TZNAME:CEST
DTSTART:20280326T010000
END:DAYLIGHT
BEGIN:STANDARD
TZOFFSETFROM:+0200
TZOFFSETTO:+0100
TZNAME:CET
DTSTART:20281029T010000
END:STANDARD
BEGIN:DAYLIGHT
TZOFFSETFROM:+0100
TZOFFSETTO:+0200
TZNAME:CEST
DTSTART:20290325T010000
END:DAYLIGHT
BEGIN:STANDARD
TZOFFSETFROM:+0200
TZOFFSETTO:+0100
TZNAME:CET
DTSTART:20291028T010000
END:STANDARD
END:VTIMEZONE
BEGIN:VEVENT
DTSTART;VALUE=DATE:20280606
DTEND;VALUE=DATE:20280610
DTSTAMP:20260423T115422
CREATED:20250515T095620Z
LAST-MODIFIED:20251128T111922Z
UID:8020-1843862400-1844207999@baeckerfachschule.de
SUMMARY:Plötzlich Filialleitung
DESCRIPTION:In nur 4 Tagen erlernen Sie Theorie und Praxis \nMeist „Plötzlich und unvermittelt“…\nwerden Mitarbeitende zu Filialleitenden. Um Sie zu unterstützen\, bekommen Sie bei uns die nötigen Informationen und Anregungen. \n1. Verkaufstheorie und -praxis\n2. Mitarbeiterführung\, -gespräche\, Teambildung\n3. Kennzahlen im Verkauf\n4. Backwarenprojekte und Aktionen planen\n5. Teamtreffen strukturieren und durchführen\n6. Werbemittel erstellen und einsetzen. \nAlles das\, wird Ihnen vermittelt\, um Ihnen Ihre neuen Aufgaben zu erleichtern. \nSelbstverständlich ist das Seminar auch für alle anderen Interessenten geeignet\, wie Verkäuferinnen und Verkäufer\, Quereinsteiger und Ungelernte die sich weiterbilden möchten. \n-> Zur Buchungsanfrage
URL:https://baeckerfachschule.de/event/ploetzlich-filialleitung-3/
LOCATION:Erste Deutsche Bäckerfachschule (Standort Olpe)\, Zur Bäckerschule 5\, Olpe / Biggesee\, NRW\, 57462
CATEGORIES:Standort Olpe,Zertifikatsstudiengänge und Qualifizierungen
ATTACH;FMTTYPE=image/png:https://baeckerfachschule.de/wp-content/uploads/2025/09/Seminar_Verkaufsleiter.png
END:VEVENT
END:VCALENDAR